BEGIN:VCALENDAR
VERSION:2.0
PRODID:-//Cannabis Farmers Alliance - ECPv6.15.20//NONSGML v1.0//EN
CALSCALE:GREGORIAN
METHOD:PUBLISH
X-WR-CALNAME:Cannabis Farmers Alliance
X-ORIGINAL-URL:https://cannabisfarmers.org
X-WR-CALDESC:Events for Cannabis Farmers Alliance
REFRESH-INTERVAL;VALUE=DURATION:PT1H
X-Robots-Tag:noindex
X-PUBLISHED-TTL:PT1H
BEGIN:VTIMEZONE
TZID:UTC
BEGIN:STANDARD
TZOFFSETFROM:+0000
TZOFFSETTO:+0000
TZNAME:UTC
DTSTART:20250101T000000
END:STANDARD
END:VTIMEZONE
BEGIN:VEVENT
DTSTART;TZID=UTC:20260609T120000
DTEND;TZID=UTC:20260609T180000
DTSTAMP:20260424T000454
CREATED:20251007T192533Z
LAST-MODIFIED:20260422T204104Z
UID:488-1781006400-1781028000@cannabisfarmers.org
SUMMARY:Greenery on Display Buyers Club
DESCRIPTION:
URL:https://cannabisfarmers.org/event/test-event-2026/
END:VEVENT
END:VCALENDAR